BEGIN:VCALENDAR
VERSION:2.0
PRODID:-//EISEN Bremen//Events//DE
BEGIN:VEVENT
UID:6b7509718fd9359f21edbf0d613a4006@eisen-bremen.com
DTSTAMP:20260422T135005Z
DTSTART:20260505T170000Z
DTEND:20260505T210000Z
SUMMARY:The Guilt 
LOCATION:EISEN, Sielwall 9, 28203 Bremen
END:VEVENT
END:VCALENDAR
